BEGIN:VCALENDAR
VERSION:2.0
PRODID:-//Door County Board of REALTORS - ECPv6.15.20//NONSGML v1.0//EN
CALSCALE:GREGORIAN
METHOD:PUBLISH
X-WR-CALNAME:Door County Board of REALTORS
X-ORIGINAL-URL:https://www.dcbr.org
X-WR-CALDESC:Events for Door County Board of REALTORS
REFRESH-INTERVAL;VALUE=DURATION:PT1H
X-Robots-Tag:noindex
X-PUBLISHED-TTL:PT1H
BEGIN:VTIMEZONE
TZID:America/Chicago
BEGIN:DAYLIGHT
TZOFFSETFROM:-0600
TZOFFSETTO:-0500
TZNAME:CDT
DTSTART:20240310T080000
END:DAYLIGHT
BEGIN:STANDARD
TZOFFSETFROM:-0500
TZOFFSETTO:-0600
TZNAME:CST
DTSTART:20241103T070000
END:STANDARD
BEGIN:DAYLIGHT
TZOFFSETFROM:-0600
TZOFFSETTO:-0500
TZNAME:CDT
DTSTART:20250309T080000
END:DAYLIGHT
BEGIN:STANDARD
TZOFFSETFROM:-0500
TZOFFSETTO:-0600
TZNAME:CST
DTSTART:20251102T070000
END:STANDARD
BEGIN:DAYLIGHT
TZOFFSETFROM:-0600
TZOFFSETTO:-0500
TZNAME:CDT
DTSTART:20260308T080000
END:DAYLIGHT
BEGIN:STANDARD
TZOFFSETFROM:-0500
TZOFFSETTO:-0600
TZNAME:CST
DTSTART:20261101T070000
END:STANDARD
END:VTIMEZONE
BEGIN:VEVENT
DTSTART;TZID=America/Chicago:20251016T120000
DTEND;TZID=America/Chicago:20251016T140000
DTSTAMP:20260425T063848
CREATED:20250827T214857Z
LAST-MODIFIED:20250910T155603Z
UID:33305-1760616000-1760623200@www.dcbr.org
SUMMARY:Well Water & SEPTIC SYSTEMS: Unfiltered Truths Seminar
DESCRIPTION:Presented by the Door County Board of REALTORS \nWell Water & SEPTIC SYSTEMS:\nUnfiltered Truths Seminar \nPublic Invited\nOctober 16 Noon\nSonny’s Pizza – Lunch and Learn
URL:https://www.dcbr.org/event/unfiltered-truths/
LOCATION:Sonny’s Pizza\, 129 N Madison Ave\, Sturgeon Bay\, WI\, 54235
ATTACH;FMTTYPE=image/png:https://www.dcbr.org/wp-content/uploads/2025/08/Color-Well-Septic-Flyer-Final-.png
END:VEVENT
BEGIN:VEVENT
DTSTART;TZID=America/Chicago:20250913T083000
DTEND;TZID=America/Chicago:20250913T150000
DTSTAMP:20260425T063848
CREATED:20250902T170547Z
LAST-MODIFIED:20250902T170702Z
UID:33808-1757752200-1757775600@www.dcbr.org
SUMMARY:Meat Raffle
DESCRIPTION:Saturday\, September 13th\nMartin Park 8:30-3:00\nWalk Begins at 8:30\nMeat Raffle starts at 11\nGet Ready to Win & Brighten Lives!\nJoin Us for Our First ever Meat Raffle! \nYou are invited you to an afternoon of excitement\, community\, and delicious prizes! Our Meat Raffle is\, part of a special day dedicated to making a profound impact on our community. Win high-quality cuts of meat & more delicacies\, enjoy the lively atmosphere\, and know that your participation supports not one\, but two incredible causes! \nA Day of Meaningful Connections: Your support at the Meat Raffle helps us fund vital initiatives at Sunflower Cottage. This year\, we’re especially focused on bringing the Tovertafel Table to our residents. What is the Tovertafel Table? It’s an award-winning interactive game system that uses magical light projections to spark joy\, connection\, and well-being. Perfect for residents with complex care needs\, this innovative tool brings play\, stimulation\, and smiles to every face -for a LIFETIME! All proceeds from the Meat Raffle will go directly towards securing this The Lifetime Subscription for the “Magic Table” Walk Towards a World Without Alzheimer’s! Before the Meat Raffle fun begins\, we invite you to join us for an event close to our hearts: The Alzheimer’s Walk – Door County Chapter Team Door County Board of REAL TORS welcomes you to walk with us or make a donation. Every step and every dollar helps advance Alzheimer’s care\, support\, and research. Be a Part of Something Special! Whether you walk\, raffle\, or both\, your generosity directly impacts the lives of those in our community. Join us for a day of giving back\, winning\, and experiencing the power of connection. See you there for a day of fun\, winning\, and brighter days for all! \nSupport our team here
URL:https://www.dcbr.org/event/meat-raffle/
LOCATION:Martin Park\, Sturgeon Bay\, 207 S 3rd Ave\, Sturgeon Bay\, WI\, 54235
ATTACH;FMTTYPE=image/jpeg:https://www.dcbr.org/wp-content/uploads/2025/08/Meat-Raffle-Announcement-1.jpg
END:VEVENT
END:VCALENDAR